BEGIN:VCALENDAR
VERSION:2.0
PRODID:-//Unidad Educativa Particular Mi Sendero - ECPv6.3.5//NONSGML v1.0//EN
CALSCALE:GREGORIAN
METHOD:PUBLISH
X-ORIGINAL-URL:https://uepmisendero.com
X-WR-CALDESC:Eventos para Unidad Educativa Particular Mi Sendero
REFRESH-INTERVAL;VALUE=DURATION:PT1H
X-Robots-Tag:noindex
X-PUBLISHED-TTL:PT1H
BEGIN:VTIMEZONE
TZID:UTC
BEGIN:STANDARD
TZOFFSETFROM:+0000
TZOFFSETTO:+0000
TZNAME:UTC
DTSTART:20240101T000000
END:STANDARD
END:VTIMEZONE
BEGIN:VEVENT
DTSTART;TZID=UTC:20240510T183000
DTEND;TZID=UTC:20240510T193000
DTSTAMP:20260420T141231
CREATED:20240320T170757Z
LAST-MODIFIED:20240320T170820Z
UID:1064-1715365800-1715369400@uepmisendero.com
SUMMARY:1ra reunión de padres de familia
DESCRIPTION:1ra reunión de padres de familia \nOrden del día. \n 
URL:https://uepmisendero.com/event/1ra-reunion-de-padres-de-familia/
LOCATION:Mi Sendero\, Machala\, El Oro\, Ecuador
CATEGORIES:Reuniones y juntas
END:VEVENT
END:VCALENDAR